BEGIN:VCALENDAR
VERSION:2.0
PRODID:-//Plone.org//NONSGML plone.app.event//EN
X-WR-TIMEZONE:US/Central
BEGIN:VEVENT
SUMMARY:Story Time
DTSTART;TZID=US/Central:20251217T093000
DTEND;TZID=US/Central:20251217T103000
DTSTAMP:20260420T070015Z
UID:d1f1bb3dd1b14e528616ca2580472b98@saas_stack_varnish:6080
CONTACT:Christine Baker\, 2178953944\, neogalibrary@hotmail.com
CREATED:20251017T154315Z
LAST-MODIFIED:20251017T154333Z
LOCATION:Neoga District Library
URL:https://www.neoga.lib.il.us/news-events/lib-cal/story-time-9/2025-12-1
 7
END:VEVENT
BEGIN:VTIMEZONE
TZID:US/Central
X-LIC-LOCATION:US/Central
BEGIN:STANDARD
DTSTART:20251102T010000
TZNAME:CST
TZOFFSETFROM:-0500
TZOFFSETTO:-0600
END:STANDARD
END:VTIMEZONE
END:VCALENDAR
