BEGIN:VCALENDAR
VERSION:2.0
PRODID:-//Plone.org//NONSGML plone.app.event//EN
X-WR-TIMEZONE:US/Central
BEGIN:VEVENT
SUMMARY:Story Time
DTSTART;TZID=US/Central:20251029T093000
DTEND;TZID=US/Central:20251029T103000
DTSTAMP:20260420T070144Z
UID:d1f1bb3dd1b14e528616ca2580472b98@saas_stack_varnish:6080
CONTACT:Christine Baker\, 2178953944\, neogalibrary@hotmail.com
CREATED:20251017T154315Z
LAST-MODIFIED:20251017T154333Z
LOCATION:Neoga District Library
URL:https://www.neoga.lib.il.us/news-events/lib-cal/story-time-9/2025-10-2
 9
END:VEVENT
BEGIN:VTIMEZONE
TZID:US/Central
X-LIC-LOCATION:US/Central
BEGIN:DAYLIGHT
DTSTART:20250309T030000
TZNAME:CDT
TZOFFSETFROM:-0600
TZOFFSETTO:-0500
END:DAYLIGHT
END:VTIMEZONE
END:VCALENDAR
