BEGIN:VCALENDAR
VERSION:2.0
PRODID:-//Plone.org//NONSGML plone.app.event//EN
X-WR-TIMEZONE:US/Central
BEGIN:VEVENT
SUMMARY:Story Time
DTSTART;TZID=US/Central:20260604T093000
DTEND;TZID=US/Central:20260604T100000
DTSTAMP:20260420T033646Z
UID:506ecc7b5cca4e8482e5daaa9e91908a@saas_stack_varnish:6080
CONTACT:Christy Baker\, 2178953944\, neogalibrary@hotmail.com
CREATED:20260304T164214Z
LAST-MODIFIED:20260304T164226Z
LOCATION:Neoga District Library
URL:https://www.neoga.lib.il.us/news-events/lib-cal/story-time-1/2026-06-0
 4
END:VEVENT
BEGIN:VTIMEZONE
TZID:US/Central
X-LIC-LOCATION:US/Central
BEGIN:DAYLIGHT
DTSTART:20260308T030000
TZNAME:CDT
TZOFFSETFROM:-0600
TZOFFSETTO:-0500
END:DAYLIGHT
END:VTIMEZONE
END:VCALENDAR
