BEGIN:VCALENDAR
VERSION:2.0
PRODID:-//Plone.org//NONSGML plone.app.event//EN
X-WR-TIMEZONE:US/Central
BEGIN:VEVENT
SUMMARY:Day Book Club
DTSTART;TZID=US/Central:20260403T100000
DTEND;TZID=US/Central:20260403T110000
DTSTAMP:20260420T051357Z
UID:749e01f3e0e942dd93601fd45ed6b31c@saas_stack_varnish:6080
CONTACT:Christine Baker\, 2178953944\, neogalibrary@hotmail.com
CREATED:20260313T163616Z
DESCRIPTION:We are reading "The Book Woman of Troublesome Creek" by Kim Mi
 chele Richardson
LAST-MODIFIED:20260313T163627Z
LOCATION:Neoga District Library
URL:https://www.neoga.lib.il.us/news-events/lib-cal/day-book-club-1
END:VEVENT
BEGIN:VEVENT
SUMMARY:Story Time
DTSTART;TZID=US/Central:20260422T093000
DTEND;TZID=US/Central:20260422T100000
DTSTAMP:20260420T051357Z
UID:e88a3e95d3d4455b90f0d79620caf9e0@saas_stack_varnish:6080
RRULE:FREQ=DAILY;COUNT=9;INTERVAL=7
CONTACT:Christy Baker\, 2178953944\, neogalibrary@hotmail.com
CREATED:20260304T163930Z
LAST-MODIFIED:20260304T163941Z
LOCATION:Neoga District Library
URL:https://www.neoga.lib.il.us/news-events/lib-cal/story-time
END:VEVENT
BEGIN:VEVENT
SUMMARY:Neoga Library Book Club
DTSTART;TZID=US/Central:20260311T180000
DTEND;TZID=US/Central:20260311T190000
DTSTAMP:20260420T051357Z
UID:421a5f960f08441db23baf67ab1961c2@saas_stack_varnish:6080
CONTACT:Christy Baker\, 2178953944\, neogalibrary@hotmail.com
CREATED:20260217T214650Z
LAST-MODIFIED:20260220T182446Z
LOCATION:Neoga District Library
URL:https://www.neoga.lib.il.us/news-events/lib-cal/neoga-library-book-clu
 b
END:VEVENT
BEGIN:VEVENT
SUMMARY:Day Book Club
DTSTART;TZID=US/Central:20260306T100000
DTEND;TZID=US/Central:20260306T110000
DTSTAMP:20260420T051357Z
UID:ae825f61645a47a684a181798d8a94df@saas_stack_varnish:6080
CONTACT:Christy Baker\, 2178953944\, neogalibrary@hotmail.com
CREATED:20260217T214602Z
LAST-MODIFIED:20260220T182440Z
LOCATION:Neoga District Library
URL:https://www.neoga.lib.il.us/news-events/lib-cal/day-book-club
END:VEVENT
BEGIN:VEVENT
SUMMARY:Sen. Steve McClure meeting
DTSTART;TZID=US/Central:20260303T110000
DTEND;TZID=US/Central:20260303T140000
DTSTAMP:20260420T051357Z
UID:2b4d863c2d8c476eac08dcc023dd69a0@saas_stack_varnish:6080
CONTACT:Christy Baker\, 2178953944\, neogalibrary@hotmail.com
CREATED:20260220T182406Z
LAST-MODIFIED:20260220T182454Z
LOCATION:Neoga District Library
URL:https://www.neoga.lib.il.us/news-events/lib-cal/sen-steve-mcclure-meet
 ing
END:VEVENT
BEGIN:VEVENT
SUMMARY:Board Meeting
DTSTART;TZID=US/Central:20260428T190000
DTEND;TZID=US/Central:20260428T200000
DTSTAMP:20260420T051357Z
UID:bb9db34b484743bab5cf81815f05595a@saas_stack_varnish:6080
RRULE:FREQ=MONTHLY;COUNT=11;BYDAY=+4TU
CONTACT:Christine Baker\, 217-895-3944
CREATED:20260114T200327Z
LAST-MODIFIED:20260220T182225Z
LOCATION:Neoga District Library
URL:https://www.neoga.lib.il.us/news-events/lib-cal/board-meeting-1
END:VEVENT
BEGIN:VEVENT
SUMMARY:New Book Club
DTSTART;TZID=US/Central:20260116T100000
DTEND;TZID=US/Central:20260116T110000
DTSTAMP:20260420T051357Z
UID:b566879c38344694a27bcc438a88893c@saas_stack_varnish:6080
CONTACT:Christine Baker\, 217-895-3944
CREATED:20260114T195713Z
LAST-MODIFIED:20260114T195723Z
LOCATION:Neoga District Library
URL:https://www.neoga.lib.il.us/news-events/lib-cal/new-book-club
END:VEVENT
BEGIN:VEVENT
SUMMARY:Book Club
DTSTART;TZID=US/Central:20260114T180000
DTEND;TZID=US/Central:20260114T190000
DTSTAMP:20260420T051357Z
UID:1ca1bea89426409c8d8590dc8b363ac6@saas_stack_varnish:6080
CONTACT:Christine Baker\, 217-895-3944
CREATED:20260114T195548Z
LAST-MODIFIED:20260114T195610Z
LOCATION:Neoga District Library
URL:https://www.neoga.lib.il.us/news-events/lib-cal/book-club
END:VEVENT
BEGIN:VEVENT
SUMMARY:Closed
DTSTART;VALUE=DATE:20260101
DTEND;VALUE=DATE:20260102
DTSTAMP:20260420T051357Z
UID:9030b1edf8ae41b398b302aa06a05d64@saas_stack_varnish:6080
CREATED:20251209T170643Z
LAST-MODIFIED:20251209T170713Z
URL:https://www.neoga.lib.il.us/news-events/lib-cal/closed-4
END:VEVENT
BEGIN:VEVENT
SUMMARY:Closed
DTSTART;VALUE=DATE:20251231
DTEND;VALUE=DATE:20260101
DTSTAMP:20260420T051357Z
UID:0df042cf18e444ffb766fd4720bdf051@saas_stack_varnish:6080
CREATED:20251209T170600Z
LAST-MODIFIED:20251209T170707Z
URL:https://www.neoga.lib.il.us/news-events/lib-cal/closed-3
END:VEVENT
BEGIN:VEVENT
SUMMARY:Closed
DTSTART;VALUE=DATE:20251226
DTEND;VALUE=DATE:20251227
DTSTAMP:20260420T051357Z
UID:d00c17811aee4b21bff6656de257df56@saas_stack_varnish:6080
CREATED:20251209T170400Z
LAST-MODIFIED:20251209T170501Z
URL:https://www.neoga.lib.il.us/news-events/lib-cal/closed-2
END:VEVENT
BEGIN:VEVENT
SUMMARY:Closed
DTSTART;VALUE=DATE:20251225
DTEND;VALUE=DATE:20251226
DTSTAMP:20260420T051357Z
UID:5e990387d7f64c48aaacff83bc1ecd4e@saas_stack_varnish:6080
CREATED:20251209T170247Z
LAST-MODIFIED:20251209T170455Z
URL:https://www.neoga.lib.il.us/news-events/lib-cal/closed-1
END:VEVENT
BEGIN:VEVENT
SUMMARY:Closed
DTSTART;VALUE=DATE:20251224
DTEND;VALUE=DATE:20251225
DTSTAMP:20260420T051357Z
UID:4e20bf9c2ee0411d90a96cadbe8136be@saas_stack_varnish:6080
CREATED:20251209T165838Z
LAST-MODIFIED:20251209T170449Z
URL:https://www.neoga.lib.il.us/news-events/lib-cal/closed
END:VEVENT
BEGIN:VEVENT
SUMMARY:Story Time
DTSTART;TZID=US/Central:20251022T093000
DTEND;TZID=US/Central:20251022T103000
DTSTAMP:20260420T051357Z
UID:d1f1bb3dd1b14e528616ca2580472b98@saas_stack_varnish:6080
RRULE:FREQ=DAILY;COUNT=9;INTERVAL=7
CONTACT:Christine Baker\, 2178953944\, neogalibrary@hotmail.com
CREATED:20251017T154315Z
LAST-MODIFIED:20251017T154333Z
LOCATION:Neoga District Library
URL:https://www.neoga.lib.il.us/news-events/lib-cal/story-time-9
END:VEVENT
BEGIN:VTIMEZONE
TZID:US/Central
X-LIC-LOCATION:US/Central
BEGIN:DAYLIGHT
DTSTART:20260308T030000
TZNAME:CDT
TZOFFSETFROM:-0600
TZOFFSETTO:-0500
END:DAYLIGHT
BEGIN:STANDARD
DTSTART:20251102T010000
TZNAME:CST
TZOFFSETFROM:-0500
TZOFFSETTO:-0600
END:STANDARD
BEGIN:DAYLIGHT
DTSTART:20250309T030000
TZNAME:CDT
TZOFFSETFROM:-0600
TZOFFSETTO:-0500
END:DAYLIGHT
END:VTIMEZONE
END:VCALENDAR
