BEGIN:VCALENDAR
VERSION:2.0
PRODID:-//Plone.org//NONSGML plone.app.event//EN
X-WR-TIMEZONE:US/Central
BEGIN:VEVENT
SUMMARY:Story Time
DTSTART;TZID=US/Central:20260422T093000
DTEND;TZID=US/Central:20260422T100000
DTSTAMP:20260421T120132Z
UID:e88a3e95d3d4455b90f0d79620caf9e0@saas_stack_varnish:6080
RRULE:FREQ=DAILY;COUNT=9;INTERVAL=7
CONTACT:Christy Baker\, 2178953944\, neogalibrary@hotmail.com
CREATED:20260304T163930Z
LAST-MODIFIED:20260304T163941Z
LOCATION:Neoga District Library
URL:https://www.neoga.lib.il.us/news-events/lib-cal/story-time
END:VEVENT
BEGIN:VEVENT
SUMMARY:Board Meeting
DTSTART;TZID=US/Central:20260428T190000
DTEND;TZID=US/Central:20260428T200000
DTSTAMP:20260421T120132Z
UID:bb9db34b484743bab5cf81815f05595a@saas_stack_varnish:6080
RRULE:FREQ=MONTHLY;COUNT=11;BYDAY=+4TU
CONTACT:Christine Baker\, 217-895-3944
CREATED:20260114T200327Z
LAST-MODIFIED:20260220T182225Z
LOCATION:Neoga District Library
URL:https://www.neoga.lib.il.us/news-events/lib-cal/board-meeting-1
END:VEVENT
BEGIN:VEVENT
SUMMARY:Neoga District Library Book Club
DTSTART;TZID=US/Central:20260429T180000
DTEND;TZID=US/Central:20260429T190000
DTSTAMP:20260421T120132Z
UID:c297fcad29ba4777b4e49eee7d993b66@saas_stack_varnish:6080
CONTACT:Christine Baker\, 2178953944\, neogalibrary@hotmail.com
CREATED:20260313T163748Z
DESCRIPTION:We are reading "One Big Happy Family" by Jamie Day
LAST-MODIFIED:20260313T163800Z
LOCATION:Neoga District Library
URL:https://www.neoga.lib.il.us/news-events/lib-cal/neoga-district-library
 -book-club
END:VEVENT
BEGIN:VEVENT
SUMMARY:Story Time
DTSTART;TZID=US/Central:20260528T093000
DTEND;TZID=US/Central:20260528T100000
DTSTAMP:20260421T120132Z
UID:506ecc7b5cca4e8482e5daaa9e91908a@saas_stack_varnish:6080
RRULE:FREQ=DAILY;COUNT=12;INTERVAL=7
CONTACT:Christy Baker\, 2178953944\, neogalibrary@hotmail.com
CREATED:20260304T164214Z
LAST-MODIFIED:20260304T164226Z
LOCATION:Neoga District Library
URL:https://www.neoga.lib.il.us/news-events/lib-cal/story-time-1
END:VEVENT
BEGIN:VEVENT
SUMMARY:Star Lab - Stars and Constellations
DTSTART;TZID=US/Central:20260602T100000
DTEND;TZID=US/Central:20260602T230000
DTSTAMP:20260421T120132Z
UID:971fd99e030b42d383615fa463d07ade@saas_stack_varnish:6080
CONTACT:Christy Baker\, 2178953944\, neogalibrary@hotmail.com
CREATED:20260304T164448Z
DESCRIPTION:Macon County Conservation District will present "Stars and Con
 stellations" in the StarLab. Children will be able to observe the stars an
 d learn about constellations inside the StarLab dome. Because of limited s
 pace\, registration is required and we will have 2 presentations beginning
  at 10. Please register by phone\, email\, or in-person.
LAST-MODIFIED:20260320T142311Z
LOCATION:Neoga Community Center
URL:https://www.neoga.lib.il.us/news-events/lib-cal/star-lab-stars-and-con
 stellations
END:VEVENT
BEGIN:VEVENT
SUMMARY:Mindful Me - 4H
DTSTART;TZID=US/Central:20260609T100000
DTEND;TZID=US/Central:20260609T110000
DTSTAMP:20260421T120132Z
UID:eb2f08ca125e4326be8452d60a2b397d@saas_stack_varnish:6080
CONTACT:Christy Baker\, 2178953944\, neogalibrary@hotmail.com
CREATED:20260304T164636Z
DESCRIPTION:Krista from 4H presents Mindful Me. Participants will explore 
 ways to eat mindfully\, while we follow along with the book “No Ordinary
  Apple” by Sara Marlowe. We’ll continue exploring mindfulness through 
 the creation of meditation jars. Please register by phone\, email or in-pe
 rson.
LAST-MODIFIED:20260320T142534Z
LOCATION:Neoga Municipal Building
URL:https://www.neoga.lib.il.us/news-events/lib-cal/mindful-me-4h
END:VEVENT
BEGIN:VEVENT
SUMMARY:CCFB Ice Cream
DTSTART;TZID=US/Central:20260616T100000
DTEND;TZID=US/Central:20260616T110000
DTSTAMP:20260421T120132Z
UID:0fdb5729525942cea04af2552473d024@saas_stack_varnish:6080
CONTACT:Christy Baker\, 2178953944\, neogalibrary@hotmail.com
CREATED:20260304T165727Z
DESCRIPTION:Cumberland County Farm Bureau will bring back a very popular p
 rogram to highlight June as Dairy Month.  Children attending this program 
 will make and eat ice cream as a special treat. Please register with the l
 ibrary by phone\, email\, or in-person for this event.
LAST-MODIFIED:20260320T143920Z
LOCATION:Neoga Park Pavilion
URL:https://www.neoga.lib.il.us/news-events/lib-cal/ccfb-ice-cream
END:VEVENT
BEGIN:VEVENT
SUMMARY:Fossil Detectives With Douglas-Hart
DTSTART;TZID=US/Central:20260623T100000
DTEND;TZID=US/Central:20260623T110000
DTSTAMP:20260421T120132Z
UID:1f50b34db0cb42bab4c7e55017c0152f@saas_stack_varnish:6080
CONTACT:Christy Baker\, 2178953944\, neogalibrary@hotmail.com
CREATED:20260304T165926Z
DESCRIPTION:Join Douglas-Hart Nature Center for a prehistoric adventure fi
 lled with giant dinosaurs\, fossil discoveries\, and hands-on fun. Young e
 xplorers will imagine life in a world before humans while learning how we 
 uncover clues from the past.
LAST-MODIFIED:20260320T144013Z
LOCATION:Neoga Municipal Building
URL:https://www.neoga.lib.il.us/news-events/lib-cal/fossil-detectives-with
 -douglas-hart
END:VEVENT
BEGIN:VEVENT
SUMMARY:Comedy Magician Richard Landry and Snowball
DTSTART;TZID=US/Central:20260630T100000
DTEND;TZID=US/Central:20260630T110000
DTSTAMP:20260421T120132Z
UID:f16874bd4703471fb6f634147d62e82b@saas_stack_varnish:6080
CONTACT:Christy Baker\, 2178953944\, neogalibrary@hotmail.com
CREATED:20260304T170332Z
DESCRIPTION:Comedy Magician Richard Landry will end our year’s events wi
 th his live magic rabbit SNOWBALL.  His hilarious magic performance will f
 eature dazzling deception\, silly surprises\, and sleight of hand.
LAST-MODIFIED:20260320T144112Z
LOCATION:Neoga Municipal Building
URL:https://www.neoga.lib.il.us/news-events/lib-cal/comedy-magician-richar
 d-landry-and-snowball
END:VEVENT
BEGIN:VTIMEZONE
TZID:US/Central
X-LIC-LOCATION:US/Central
BEGIN:DAYLIGHT
DTSTART:20260308T030000
TZNAME:CDT
TZOFFSETFROM:-0600
TZOFFSETTO:-0500
END:DAYLIGHT
END:VTIMEZONE
END:VCALENDAR
